View In:
ArcMap
ArcGIS Explorer
ArcGIS JavaScript
Google Earth
ArcGIS.com Map
View Footprint In:
Google Earth
Service Description:
Map Name: Layers
Legend
All Layers and Tables
Layers:
Tables:
Description:
Copyright Text:
Spatial Reference: 3064
Single Fused Map Cache: true
Tile Info:
- Height: 256
- Width: 256
- DPI: 96
- Levels of Detail: (# Levels: 10)
-
Level ID: 0
[Start Tile,
End Tile]
Resolution: 21.1667090000847
Scale: 80000
-
Level ID: 1
[Start Tile,
End Tile]
Resolution: 16.9333672000677
Scale: 64000
-
Level ID: 2
[Start Tile,
End Tile]
Resolution: 8.46668360003387
Scale: 32000
-
Level ID: 3
[Start Tile,
End Tile]
Resolution: 4.23334180001693
Scale: 16000
-
Level ID: 4
[Start Tile,
End Tile]
Resolution: 2.11667090000847
Scale: 8000
-
Level ID: 5
[Start Tile,
End Tile]
Resolution: 1.05833545000423
Scale: 4000
-
Level ID: 6
[Start Tile,
End Tile]
Resolution: 0.529167725002117
Scale: 2000
-
Level ID: 7
[Start Tile,
End Tile]
Resolution: 0.264583862501058
Scale: 1000
-
Level ID: 8
[Start Tile,
End Tile]
Resolution: 0.132291931250529
Scale: 500
-
Level ID: 9
[Start Tile,
End Tile]
Resolution: 0.105833545000423
Scale: 400
- Format: PNG32
- Compression Quality: 0
-
Origin:
- Spatial Reference: 3064
Initial Extent:
XMin: 20361.9837436273
YMin: 19639.8443082641
XMax: 20461.0439417477
YMax: 19709.5886144194
Spatial Reference: 3064
Full Extent:
XMin: 18536.8918263916
YMin: 8147.509
XMax: 26422.3776457764
YMax: 21813.117
Spatial Reference: 3064
Units: esriMeters
Supported Image Format Types: PNG24,PNG,JPG,DIB,TIFF,EMF,PS,PDF,GIF,SVG,SVGZ,AI,BMP
Document Info:
- Title: MacauMap2010
- Author: admin
- Comments: (1)門牌is a layer over街名.
(2)建築物外圍 / 建築物內圍, change the highlight format.
(3)建築物外圍is not selectable.
- Subject:
- Category:
- Keywords:
- Credits:
Supported Interfaces:
REST
SOAP
Supported Operations:
Export Map
Identify
Find